BEGIN:VCALENDAR
VERSION:2.0
PRODID:-//NHH //NONSGML v1.0//NO
BEGIN:VEVENT
UID:https://www.nhh.no/en/calendar/strategy-and-management/2026/frank-neffke/
DTSTAMP:20260421T122603Z
DTSTART:20260512T090000Z
DTEND:20260511T220000Z
SUMMARY:Using digital traces to analyze software work: skills, careers and programming languages
DESCRIPTION:The Department of Strategy and Management and DIG research centre invite you to a faculty seminar with Professor Frank Neffke https://www.nhh.no/en/calendar/strategy-and-management/2026/frank-neffke/
X-ALT-DESC;FMTTYPE=text/html:The Department of Strategy and Management and DIG research centre invite you to a faculty seminar with Professor Frank Neffke<br /> <br /> Microsoft.AspNetCore.Mvc.Rendering.TagBuilder
LOCATION:SOL 1
URL:https://www.nhh.no/en/calendar/strategy-and-management/2026/frank-neffke/
END:VEVENT
END:VCALENDAR