BEGIN:VCALENDAR
VERSION:2.0
PRODID:-//NHH //NONSGML v1.0//NO
BEGIN:VEVENT
UID:https://www.nhh.no/kalender/paraplyen/2024/november/town-hall-meeting/
DTSTAMP:20260420T085909Z
DTSTART:20241104T100000Z
DTEND:20241104T110000Z
SUMMARY:Town Hall meeting
DESCRIPTION:NHH invites all employees to a Town Hall meeting in Aud Max. Coffee and light refreshments will be served outside Aud Max from 11.00. The meeting starts at 11.15. https://www.nhh.no/kalender/paraplyen/2024/november/town-hall-meeting/
X-ALT-DESC;FMTTYPE=text/html:NHH invites all employees to a Town Hall meeting in Aud Max. Coffee and light refreshments will be served outside Aud Max from 11.00. The meeting starts at 11.15.<br /> <br /> Microsoft.AspNetCore.Mvc.Rendering.TagBuilder
LOCATION:NHH - Aud Max
URL:https://www.nhh.no/kalender/paraplyen/2024/november/town-hall-meeting/
END:VEVENT
END:VCALENDAR