BEGIN:VCALENDAR
VERSION:2.0
PRODID:-//NHH //NONSGML v1.0//NO
BEGIN:VEVENT
UID:https://www.nhh.no/kalender/paraplyen/2021/april/town-hall-meeting-april-2021/
DTSTAMP:20260420T085953Z
DTSTART:20210412T091500Z
DTEND:20210412T100000Z
SUMMARY:Town Hall meeting April 2021
DESCRIPTION:Rector Øystein Thøgersen and his team invite all employees to this town hall meeting at 11:15 to 12:00. https://www.nhh.no/kalender/paraplyen/2021/april/town-hall-meeting-april-2021/
X-ALT-DESC;FMTTYPE=text/html:Rector Øystein Thøgersen and his team invite all employees to this town hall meeting at 11:15 to 12:00.<br /> <br /> Microsoft.AspNetCore.Mvc.Rendering.TagBuilder
LOCATION:Teams
URL:https://www.nhh.no/kalender/paraplyen/2021/april/town-hall-meeting-april-2021/
END:VEVENT
END:VCALENDAR