BEGIN:VCALENDAR
VERSION:2.0
PRODID:-//NHH //NONSGML v1.0//NO
BEGIN:VEVENT
UID:https://www.nhh.no/kalender/paraplyen/2020/september/town-hall-meeting-september-2020/
DTSTAMP:20260421T083927Z
DTSTART:20200923T130000Z
DTEND:20200923T134500Z
SUMMARY:Town Hall meeting September 2020
DESCRIPTION:Rector Øystein Thøgersen and his team invite all employees to this town hall meeting from 15-15:45 via Teams. https://www.nhh.no/kalender/paraplyen/2020/september/town-hall-meeting-september-2020/
X-ALT-DESC;FMTTYPE=text/html:Rector Øystein Thøgersen and his team invite all employees to this town hall meeting from 15-15:45 via Teams.<br /> <br /> Microsoft.AspNetCore.Mvc.Rendering.TagBuilder
LOCATION:Teams
URL:https://www.nhh.no/kalender/paraplyen/2020/september/town-hall-meeting-september-2020/
END:VEVENT
END:VCALENDAR