BEGIN:VCALENDAR
VERSION:2.0
PRODID:-//NHH //NONSGML v1.0//NO
BEGIN:VEVENT
UID:https://www.nhh.no/kalender/paraplyen/2020/oktober/webinar-with-fredrik-kavli/
DTSTAMP:20260422T015635Z
DTSTART:20201029T091500Z
DTEND:20201029T101500Z
SUMMARY:Weighing of scientific publications – how does NHH want you to use the national Cristin-system
DESCRIPTION: https://www.nhh.no/kalender/paraplyen/2020/oktober/webinar-with-fredrik-kavli/
X-ALT-DESC;FMTTYPE=text/html:<br /> <br /> Microsoft.AspNetCore.Mvc.Rendering.TagBuilder
LOCATION:
URL:https://www.nhh.no/kalender/paraplyen/2020/oktober/webinar-with-fredrik-kavli/
END:VEVENT
END:VCALENDAR