BEGIN:VCALENDAR
VERSION:2.0
PRODID:-//NHH //NONSGML v1.0//NO
BEGIN:VEVENT
UID:https://www.nhh.no/en/calendar/fair/2026/conferences/labor-workshop/
DTSTAMP:20260421T122605Z
DTSTART:20260512T064500Z
DTEND:20260513T133000Z
SUMMARY:Bergen Labor Workshop 2026
DESCRIPTION:The 2026 Bergen Labor Workshop will take place from 12 - 13 May at NHH Norwegian School of Economics. The event is organized by Katrine V. Løken, Kjell G. Salvanes, Sissel Jensen, Aline Bütikofer and Alexander L.P. Willén. https://www.nhh.no/en/calendar/fair/2026/conferences/labor-workshop/
X-ALT-DESC;FMTTYPE=text/html:The 2026 Bergen Labor Workshop will take place from 12 - 13 May at NHH Norwegian School of Economics. The event is organized by Katrine V. Løken, Kjell G. Salvanes, Sissel Jensen, Aline Bütikofer and Alexander L.P. Willén.<br /> <br /> Microsoft.AspNetCore.Mvc.Rendering.TagBuilder
LOCATION:AUD C
URL:https://www.nhh.no/en/calendar/fair/2026/conferences/labor-workshop/
END:VEVENT
END:VCALENDAR