BEGIN:VCALENDAR
VERSION:2.0
PRODID:-//NHH //NONSGML v1.0//NO
BEGIN:VEVENT
UID:https://www.nhh.no/en/calendar/fair/2025/conferences/early-career-behavioral-economics-conference-2025/
DTSTAMP:20260421T084013Z
DTSTART:20250619T070000Z
DTEND:20250620T150000Z
SUMMARY:ECBE Conference 2025
DESCRIPTION:The 11th Early-Career Behavioral Economics Conference took place at FAIR NHH ­Norwegian School of Economics in Bergen.  https://www.nhh.no/en/calendar/fair/2025/conferences/early-career-behavioral-economics-conference-2025/
X-ALT-DESC;FMTTYPE=text/html:The 11th Early-Career Behavioral Economics Conference took place at FAIR NHH ­Norwegian School of Economics in Bergen. <br /> <br /> Microsoft.AspNetCore.Mvc.Rendering.TagBuilder
LOCATION:
URL:https://www.nhh.no/en/calendar/fair/2025/conferences/early-career-behavioral-economics-conference-2025/
END:VEVENT
END:VCALENDAR