BEGIN:VCALENDAR
VERSION:2.0
PRODID:-//NHH //NONSGML v1.0//NO
BEGIN:VEVENT
UID:https://www.nhh.no/en/calendar/fair/2024/fair-seminar-series/joel-van-der-weele/
DTSTAMP:20260421T083753Z
DTSTART:20241121T111500Z
DTEND:20241121T121500Z
SUMMARY:Joël van der Weele
DESCRIPTION:We invite you to a FAIR Seminar with Joël van der Weele. Joël is a Professor of Economic Psychology at the Center for Research in Experimental Economics and political Decision making (CREED) at the University of Amsterdam. His research is on diverse issues on the intersection between economics and psychology, using the tools of experimental economics and game theory. https://www.nhh.no/en/calendar/fair/2024/fair-seminar-series/joel-van-der-weele/
X-ALT-DESC;FMTTYPE=text/html:We invite you to a FAIR Seminar with Joël van der Weele. Joël is a Professor of Economic Psychology at the Center for Research in Experimental Economics and political Decision making (CREED) at the University of Amsterdam. His research is on diverse issues on the intersection between economics and psychology, using the tools of experimental economics and game theory.<br /> <br /> Microsoft.AspNetCore.Mvc.Rendering.TagBuilder
LOCATION:
URL:https://www.nhh.no/en/calendar/fair/2024/fair-seminar-series/joel-van-der-weele/
END:VEVENT
END:VCALENDAR