BEGIN:VCALENDAR
VERSION:2.0
PRODID:-//NHH //NONSGML v1.0//NO
BEGIN:VEVENT
UID:https://www.nhh.no/en/calendar/fair/2018/seminars/autumn/jakob-svensson/
DTSTAMP:20260421T083807Z
DTSTART:20181129T111500Z
DTEND:20181129T121500Z
SUMMARY:Jakob Svensson
DESCRIPTION:FAIR invites you to a seminar with Jakob Svensson, Director, Professor of Economics, Institute for International Economic Studies (IIES), Stockholm University. https://www.nhh.no/en/calendar/fair/2018/seminars/autumn/jakob-svensson/
X-ALT-DESC;FMTTYPE=text/html:FAIR invites you to a seminar with Jakob Svensson, Director, Professor of Economics, Institute for International Economic Studies (IIES), Stockholm University.<br /> <br /> Microsoft.AspNetCore.Mvc.Rendering.TagBuilder
LOCATION:E209/E210
URL:https://www.nhh.no/en/calendar/fair/2018/seminars/autumn/jakob-svensson/
END:VEVENT
END:VCALENDAR