BEGIN:VCALENDAR
VERSION:2.0
PRODID:-//NHH //NONSGML v1.0//NO
BEGIN:VEVENT
UID:https://www.nhh.no/en/calendar/business-and-management-science/conference-on-tax-transparency/
DTSTAMP:20260425T160133Z
DTSTART:20241203T093000Z
DTEND:20241203T170000Z
SUMMARY:2nd Conference on Tax Transparency
DESCRIPTION:A joint event from NHH Norwegian School Of Economics & NoCeT, TRR266 Accounting For Transparency and Fair Tax Foundation. https://www.nhh.no/en/calendar/business-and-management-science/conference-on-tax-transparency/
X-ALT-DESC;FMTTYPE=text/html:A joint event from NHH Norwegian School Of Economics & NoCeT, TRR266 Accounting For Transparency and Fair Tax Foundation.<br /> <br /> Microsoft.AspNetCore.Mvc.Rendering.TagBuilder
LOCATION:
URL:https://www.nhh.no/en/calendar/business-and-management-science/conference-on-tax-transparency/
END:VEVENT
END:VCALENDAR