BEGIN:VCALENDAR
VERSION:2.0
PRODID:-//NHH //NONSGML v1.0//NO
BEGIN:VEVENT
UID:https://www.nhh.no/kalender/alumni/2025/alumnibrunsj-kakanomics/
DTSTAMP:20260423T112631Z
DTSTART:20251022T080000Z
DTEND:20251022T100000Z
SUMMARY:Alumnibrunsj under KÅKÅnomics 
DESCRIPTION:NHH, NMBU og UiS inviterer tidligere studenter til alumnibrunsj i forkant av fagseminaret under økonomifestivalen KÅKÅnomics i Stavanger. https://www.nhh.no/kalender/alumni/2025/alumnibrunsj-kakanomics/
X-ALT-DESC;FMTTYPE=text/html:NHH, NMBU og UiS inviterer tidligere studenter til alumnibrunsj i forkant av fagseminaret under økonomifestivalen KÅKÅnomics i Stavanger.<br /> <br /> Microsoft.AspNetCore.Mvc.Rendering.TagBuilder
LOCATION:Amfiet i SiS Studenthus, Universitetet i Stavanger
URL:https://www.nhh.no/kalender/alumni/2025/alumnibrunsj-kakanomics/
END:VEVENT
END:VCALENDAR