BEGIN:VCALENDAR
VERSION:2.0
PRODID:-//NHH //NONSGML v1.0//NO
BEGIN:VEVENT
UID:https://www.nhh.no/kalender/alumni/2024/barekraftsdata-som-beslutningsgrunnlag/
DTSTAMP:20260420T034009Z
DTSTART:20240306T090000Z
DTEND:20240306T123000Z
SUMMARY:Bærekraftsdata som beslutningsgrunnlag
DESCRIPTION:Gode bærekraftsdata blir den viktigste valutaen fremover - som beslutningsstøtte for gode valg, for å tiltrekke seg kapital og for å oppfylle lovkrav til bærekraftsrapportering. Men hvilke data har vi, hva trenger vi, og hvem skal forvalte dem? Velkommen til fagseminar og debatt med ubalansert temperatur, faglige innspark og inspirasjon fra selskaper som forsøker å gi oss svarene. https://www.nhh.no/kalender/alumni/2024/barekraftsdata-som-beslutningsgrunnlag/
X-ALT-DESC;FMTTYPE=text/html:Gode bærekraftsdata blir den viktigste valutaen fremover - som beslutningsstøtte for gode valg, for å tiltrekke seg kapital og for å oppfylle lovkrav til bærekraftsrapportering. Men hvilke data har vi, hva trenger vi, og hvem skal forvalte dem? Velkommen til fagseminar og debatt med ubalansert temperatur, faglige innspark og inspirasjon fra selskaper som forsøker å gi oss svarene.<br /> <br /> Microsoft.AspNetCore.Mvc.Rendering.TagBuilder
LOCATION:NTNU Gløshaugen, Trondheim
URL:https://www.nhh.no/kalender/alumni/2024/barekraftsdata-som-beslutningsgrunnlag/
END:VEVENT
END:VCALENDAR