BEGIN:VCALENDAR
VERSION:2.0
PRODID:-//NHH //NONSGML v1.0//NO
BEGIN:VEVENT
UID:https://www.nhh.no/kalender/alumni/2020/hvordan-bidrar-kriser-til-utvikling-av-bedriftskultur/
DTSTAMP:20260424T001419Z
DTSTART:20200528T120000Z
DTEND:20200528T124500Z
SUMMARY:Hvordan bidrar kriser til utvikling av bedriftskultur?
DESCRIPTION:Hvordan kan Koronakrisen bidra til læring og kulturutvikling i virksomheter? NHH Alumni inviterer til webinar med programdirektør Tore Hillestad fra NHH Executive.  https://www.nhh.no/kalender/alumni/2020/hvordan-bidrar-kriser-til-utvikling-av-bedriftskultur/
X-ALT-DESC;FMTTYPE=text/html:Hvordan kan Koronakrisen bidra til læring og kulturutvikling i virksomheter? NHH Alumni inviterer til webinar med programdirektør Tore Hillestad fra NHH Executive. <br /> <br /> Microsoft.AspNetCore.Mvc.Rendering.TagBuilder
LOCATION:Zoom-webinar
URL:https://www.nhh.no/kalender/alumni/2020/hvordan-bidrar-kriser-til-utvikling-av-bedriftskultur/
END:VEVENT
END:VCALENDAR