BEGIN:VCALENDAR
VERSION:2.0
PRODID:-//NHH //NONSGML v1.0//NO
BEGIN:VEVENT
UID:https://www.nhh.no/en/calendar/accounting-auditing-and-law/2026/aziza-laguecir/
DTSTAMP:20260421T122656Z
DTSTART:20260422T080000Z
DTEND:20260422T100000Z
SUMMARY:Accounting for Future Crisis
DESCRIPTION:The Department of Accounting, Auditing and Law invites you to a MAC seminar with Aziza Laguecir from EDHEC Business School, France. https://www.nhh.no/en/calendar/accounting-auditing-and-law/2026/aziza-laguecir/
X-ALT-DESC;FMTTYPE=text/html:The Department of Accounting, Auditing and Law invites you to a MAC seminar with Aziza Laguecir from EDHEC Business School, France.<br /> <br /> Microsoft.AspNetCore.Mvc.Rendering.TagBuilder
LOCATION:C-104
URL:https://www.nhh.no/en/calendar/accounting-auditing-and-law/2026/aziza-laguecir/
END:VEVENT
END:VCALENDAR