BEGIN:VCALENDAR
VERSION:2.0
PRODID:-//NHH //NONSGML v1.0//NO
BEGIN:VEVENT
UID:https://www.nhh.no/kalender/2026/september/master-i-offentlig-forvaltning-graduation-og-alumnisamling/
DTSTAMP:20260421T122726Z
DTSTART:20260902T143000Z
DTEND:20260902T173000Z
SUMMARY:Gradsseremoni og alumnisamling
DESCRIPTION:UiB og NHH Executive har gleden av å ønske velkommen til gradsseremoni og alumnisamling for Masterprogrammet i offentlig forvaltning. https://www.nhh.no/kalender/2026/september/master-i-offentlig-forvaltning-graduation-og-alumnisamling/
X-ALT-DESC;FMTTYPE=text/html:UiB og NHH Executive har gleden av å ønske velkommen til gradsseremoni og alumnisamling for Masterprogrammet i offentlig forvaltning.<br /> <br /> Microsoft.AspNetCore.Mvc.Rendering.TagBuilder
LOCATION:Regjeringkvartalet, Akersgata 42, 0180 Oslo
URL:https://www.nhh.no/kalender/2026/september/master-i-offentlig-forvaltning-graduation-og-alumnisamling/
END:VEVENT
END:VCALENDAR