BEGIN:VCALENDAR
VERSION:2.0
PRODID:-//NHH //NONSGML v1.0//NO
BEGIN:VEVENT
UID:https://www.nhh.no/kalender/2026/juni/avslutningsmarkering/
DTSTAMP:20260421T122604Z
DTSTART:20260612T150000Z
DTEND:20260612T183000Z
SUMMARY:Avslutningsmarkering
DESCRIPTION:NHH inviterer til høgtidleg avslutning for årets uteksaminerte masterkandidatar. Arrangementet finn stad i Grieghallen.  https://www.nhh.no/kalender/2026/juni/avslutningsmarkering/
X-ALT-DESC;FMTTYPE=text/html:NHH inviterer til høgtidleg avslutning for årets uteksaminerte masterkandidatar. Arrangementet finn stad i Grieghallen. <br /> <br /> Microsoft.AspNetCore.Mvc.Rendering.TagBuilder
LOCATION:Grieghallen, Bergen
URL:https://www.nhh.no/kalender/2026/juni/avslutningsmarkering/
END:VEVENT
END:VCALENDAR