BEGIN:VCALENDAR
VERSION:2.0
PRODID:-//NHH //NONSGML v1.0//NO
BEGIN:VEVENT
UID:https://www.nhh.no/kalender/2026/januar/apen-dag-oslo/
DTSTAMP:20260424T154902Z
DTSTART:20260128T170000Z
DTEND:20260128T200000Z
SUMMARY:Åpen dag i Oslo
DESCRIPTION:NHH inviterer alle interesserte til Åpen dag i Oslo. Møt flere av dagens studenter og hør om studiemulighetene ved NHH! Du vil også møte tidligere NHH-studenter, som forteller om jobbmulighetene etter endt utdanning, og representanter fra NHH-rektoratet. Det blir lett servering. https://www.nhh.no/kalender/2026/januar/apen-dag-oslo/
X-ALT-DESC;FMTTYPE=text/html:NHH inviterer alle interesserte til Åpen dag i Oslo. Møt flere av dagens studenter og hør om studiemulighetene ved NHH! Du vil også møte tidligere NHH-studenter, som forteller om jobbmulighetene etter endt utdanning, og representanter fra NHH-rektoratet. Det blir lett servering.<br /> <br /> Microsoft.AspNetCore.Mvc.Rendering.TagBuilder
LOCATION:Deichman Bjørvika
URL:https://www.nhh.no/kalender/2026/januar/apen-dag-oslo/
END:VEVENT
END:VCALENDAR