BEGIN:VCALENDAR
VERSION:2.0
PRODID:-//NHH //NONSGML v1.0//NO
BEGIN:VEVENT
UID:https://www.nhh.no/kalender/2024/november/informasjonsmote-valfag-pa-bachelor/
DTSTAMP:20260425T140347Z
DTSTART:20241127T090000Z
DTEND:20241127T103000Z
SUMMARY:Valfag på bachelor
DESCRIPTION:NHH inviterer førstesemester-studentar på BØA til å bli kjent med det varierte valgfagstilbodet på høgskulen. Institutta er på plass og svarar på spørsmål om sine valgfag. Programleiar for bachelorprogrammet orienterer om kva reglar som gjeld dersom ein skal på utveksling med meir.
 https://www.nhh.no/kalender/2024/november/informasjonsmote-valfag-pa-bachelor/
X-ALT-DESC;FMTTYPE=text/html:NHH inviterer førstesemester-studentar på BØA til å bli kjent med det varierte valgfagstilbodet på høgskulen. Institutta er på plass og svarar på spørsmål om sine valgfag. Programleiar for bachelorprogrammet orienterer om kva reglar som gjeld dersom ein skal på utveksling med meir.
<br /> <br /> Microsoft.AspNetCore.Mvc.Rendering.TagBuilder
LOCATION:Aud. Max
URL:https://www.nhh.no/kalender/2024/november/informasjonsmote-valfag-pa-bachelor/
END:VEVENT
END:VCALENDAR