BEGIN:VCALENDAR
VERSION:2.0
PRODID:-//NHH //NONSGML v1.0//NO
BEGIN:VEVENT
UID:https://www.nhh.no/kalender/2022/mars/womens-finance-day/
DTSTAMP:20260423T045607Z
DTSTART:20220325T080000Z
DTEND:20220325T151500Z
SUMMARY:Women’s Finance Day
DESCRIPTION:Er du nysgjerrig på en karriere innenfor finans, eller bare interessert i å lære mer om finansfaget? Da må du delta på Women’s Finance Day på NHH. https://www.nhh.no/kalender/2022/mars/womens-finance-day/
X-ALT-DESC;FMTTYPE=text/html:Er du nysgjerrig på en karriere innenfor finans, eller bare interessert i å lære mer om finansfaget? Da må du delta på Women’s Finance Day på NHH.<br /> <br /> Microsoft.AspNetCore.Mvc.Rendering.TagBuilder
LOCATION:NHH
URL:https://www.nhh.no/kalender/2022/mars/womens-finance-day/
END:VEVENT
END:VCALENDAR