BEGIN:VCALENDAR
VERSION:2.0
PRODID:-//NHH //NONSGML v1.0//NO
BEGIN:VEVENT
UID:https://www.nhh.no/kalender/2019/mars/jobbklar/
DTSTAMP:20260421T082349Z
DTSTART:20190314T111500Z
DTEND:20190314T130000Z
SUMMARY:Jobbklar
DESCRIPTION:Er du masterstudent og klar for jobbmarkedet? Denne workshopen i regi av NHH og Sammen Råd & Karriere hjelper deg med å kartlegge kompetansen din og finne ut mer om hvordan du kan navigere fra student til ansatt. Det er plass til 15 deltakere. https://www.nhh.no/kalender/2019/mars/jobbklar/
X-ALT-DESC;FMTTYPE=text/html:Er du masterstudent og klar for jobbmarkedet? Denne workshopen i regi av NHH og Sammen Råd & Karriere hjelper deg med å kartlegge kompetansen din og finne ut mer om hvordan du kan navigere fra student til ansatt. Det er plass til 15 deltakere.<br /> <br /> Microsoft.AspNetCore.Mvc.Rendering.TagBuilder
LOCATION:Lab 2, Nybygget
URL:https://www.nhh.no/kalender/2019/mars/jobbklar/
END:VEVENT
END:VCALENDAR