BEGIN:VCALENDAR
VERSION:2.0
PRODID:-//NHH //NONSGML v1.0//NO
BEGIN:VEVENT
UID:https://www.nhh.no/en/calendar/strategy-and-management/2025/dorortea-rossi-kriscak/
DTSTAMP:20260421T123452Z
DTSTART:20250430T091500Z
DTEND:20250430T100000Z
SUMMARY:What We Know and Do Not Know About Sustainability in Business Education: A Critical Review and Research Agenda
DESCRIPTION:The Department of Strategy and Management invites you to a faculty seminar with PhD Candidate Dorotea Rossi Kriscak https://www.nhh.no/en/calendar/strategy-and-management/2025/dorortea-rossi-kriscak/
X-ALT-DESC;FMTTYPE=text/html:The Department of Strategy and Management invites you to a faculty seminar with PhD Candidate Dorotea Rossi Kriscak<br /> <br /> Microsoft.AspNetCore.Mvc.Rendering.TagBuilder
LOCATION:SOL 1
URL:https://www.nhh.no/en/calendar/strategy-and-management/2025/dorortea-rossi-kriscak/
END:VEVENT
END:VCALENDAR