BEGIN:VCALENDAR
VERSION:2.0
PRODID:-//NHH //NONSGML v1.0//NO
BEGIN:VEVENT
UID:https://www.nhh.no/en/calendar/strategy-and-management/2025/ang-teng-yen-eugene/
DTSTAMP:20260421T082650Z
DTSTART:20250527T100000Z
DTEND:20250527T110000Z
SUMMARY:Estimating policy effects in a social network with graph sampling
DESCRIPTION:The Department of Strategy and Management invites you to a faculty seminar with PhD Candidate Ang Teng Yen Eugene. https://www.nhh.no/en/calendar/strategy-and-management/2025/ang-teng-yen-eugene/
X-ALT-DESC;FMTTYPE=text/html:The Department of Strategy and Management invites you to a faculty seminar with PhD Candidate Ang Teng Yen Eugene.<br /> <br /> Microsoft.AspNetCore.Mvc.Rendering.TagBuilder
LOCATION:DIG HUB
URL:https://www.nhh.no/en/calendar/strategy-and-management/2025/ang-teng-yen-eugene/
END:VEVENT
END:VCALENDAR