BEGIN:VCALENDAR
VERSION:2.0
PRODID:-//NHH //NONSGML v1.0//NO
BEGIN:VEVENT
UID:https://www.nhh.no/en/calendar/strategy-and-management/2024/phd-defense-lars-arvei-moen/
DTSTAMP:20260426T001517Z
DTSTART:20241206T091500Z
DTEND:20241206T130000Z
SUMMARY:Strategy and Digital Transformation
DESCRIPTION:On Friday 6 December 2024 Lars Arvei Moen will hold a trial lecture on a prescribed topic and defend his thesis for the PhD degree at NHH. Title of the thesis:  Strategy and Digital Transformation: Exploring the relationship between strategy and digital transformation in established firms  https://www.nhh.no/en/calendar/strategy-and-management/2024/phd-defense-lars-arvei-moen/
X-ALT-DESC;FMTTYPE=text/html:On Friday 6 December 2024 Lars Arvei Moen will hold a trial lecture on a prescribed topic and defend his thesis for the PhD degree at NHH. Title of the thesis:  Strategy and Digital Transformation: Exploring the relationship between strategy and digital transformation in established firms <br /> <br /> Microsoft.AspNetCore.Mvc.Rendering.TagBuilder
LOCATION:Aud C
URL:https://www.nhh.no/en/calendar/strategy-and-management/2024/phd-defense-lars-arvei-moen/
END:VEVENT
END:VCALENDAR