BEGIN:VCALENDAR
VERSION:2.0
PRODID:-//NHH //NONSGML v1.0//NO
BEGIN:VEVENT
UID:https://www.nhh.no/en/calendar/strategy-and-management/2020/phd-defenses/sujit-pandey/
DTSTAMP:20260420T085923Z
DTSTART:20200427T070000Z
DTEND:20200427T074500Z
SUMMARY:Human Capital and New Firm Performance
DESCRIPTION:On Monday 27 April 2020 PhD Candidate Sujit Pandey will hold a trial lecture on a prescribed topic. Due to time difference between Nepal and Utah he will defend his thesis for the PhD degree at NHH 28 April. Title: "Human Capital and New Firm Performance: Founders, Employees and Board Members".  https://www.nhh.no/en/calendar/strategy-and-management/2020/phd-defenses/sujit-pandey/
X-ALT-DESC;FMTTYPE=text/html:On Monday 27 April 2020 PhD Candidate Sujit Pandey will hold a trial lecture on a prescribed topic. Due to time difference between Nepal and Utah he will defend his thesis for the PhD degree at NHH 28 April. Title: "Human Capital and New Firm Performance: Founders, Employees and Board Members". <br /> <br /> Microsoft.AspNetCore.Mvc.Rendering.TagBuilder
LOCATION:Zoom Video Conference
URL:https://www.nhh.no/en/calendar/strategy-and-management/2020/phd-defenses/sujit-pandey/
END:VEVENT
END:VCALENDAR