BEGIN:VCALENDAR
VERSION:2.0
PRODID:-//NHH //NONSGML v1.0//NO
BEGIN:VEVENT
UID:https://www.nhh.no/en/calendar/fair/2025/fair-seminar-2025-spring/samuel-norris2/
DTSTAMP:20260420T164228Z
DTSTART:20250227T111500Z
DTEND:20250227T121500Z
SUMMARY:Samuel Norris
DESCRIPTION:We invite you to a FAIR Seminar with Samuel Norris. Samuel is an Assistant Professor at the University of British Columbia with research interests in education, crime, and labour economics.  https://www.nhh.no/en/calendar/fair/2025/fair-seminar-2025-spring/samuel-norris2/
X-ALT-DESC;FMTTYPE=text/html:We invite you to a FAIR Seminar with Samuel Norris. Samuel is an Assistant Professor at the University of British Columbia with research interests in education, crime, and labour economics. <br /> <br /> Microsoft.AspNetCore.Mvc.Rendering.TagBuilder
LOCATION:E209/E210
URL:https://www.nhh.no/en/calendar/fair/2025/fair-seminar-2025-spring/samuel-norris2/
END:VEVENT
END:VCALENDAR