BEGIN:VCALENDAR
VERSION:2.0
PRODID:-//NHH //NONSGML v1.0//NO
BEGIN:VEVENT
UID:https://www.nhh.no/en/calendar/fair/2025/fair-seminar-2025-spring/nadja-dwenger/
DTSTAMP:20260424T163718Z
DTSTART:20251113T111500Z
DTEND:20251113T121500Z
SUMMARY:Nadja Dwenger
DESCRIPTION:We invite you to a FAIR Seminar with Nadja Dwenger. Dwenger is full professor of Economics at the University of Hohenheim, where she holds the Chair of Public Economics. She is also an affiliated researcher at the Chr. Michelsen Institute Bergen as well as a CEPR affiliate and a CESifo fellow. Her research investigates the economic impact of government policy. https://www.nhh.no/en/calendar/fair/2025/fair-seminar-2025-spring/nadja-dwenger/
X-ALT-DESC;FMTTYPE=text/html:We invite you to a FAIR Seminar with Nadja Dwenger. Dwenger is full professor of Economics at the University of Hohenheim, where she holds the Chair of Public Economics. She is also an affiliated researcher at the Chr. Michelsen Institute Bergen as well as a CEPR affiliate and a CESifo fellow. Her research investigates the economic impact of government policy.<br /> <br /> Microsoft.AspNetCore.Mvc.Rendering.TagBuilder
LOCATION:FAIR, E209/E210
URL:https://www.nhh.no/en/calendar/fair/2025/fair-seminar-2025-spring/nadja-dwenger/
END:VEVENT
END:VCALENDAR