BEGIN:VCALENDAR
VERSION:2.0
PRODID:-//NHH //NONSGML v1.0//NO
BEGIN:VEVENT
UID:https://www.nhh.no/en/calendar/fair/2024/conferences/eale-conference-2024/
DTSTAMP:20260424T115108Z
DTSTART:20240905T090000Z
DTEND:20240907T200000Z
SUMMARY:EALE Conference 2024
DESCRIPTION:FAIR and NHH had the pleasure of organizing and hosting the European Association for Labour Economists (EALE) Conference 2024, which took place on 5 - 7 September at the Norwegian School of Economics in Bergen, Norway. https://www.nhh.no/en/calendar/fair/2024/conferences/eale-conference-2024/
X-ALT-DESC;FMTTYPE=text/html:FAIR and NHH had the pleasure of organizing and hosting the European Association for Labour Economists (EALE) Conference 2024, which took place on 5 - 7 September at the Norwegian School of Economics in Bergen, Norway.<br /> <br /> Microsoft.AspNetCore.Mvc.Rendering.TagBuilder
LOCATION:NHH, Bergen, Norway
URL:https://www.nhh.no/en/calendar/fair/2024/conferences/eale-conference-2024/
END:VEVENT
END:VCALENDAR