BEGIN:VCALENDAR
VERSION:2.0
PRODID:-//NHH //NONSGML v1.0//NO
BEGIN:VEVENT
UID:https://www.nhh.no/en/calendar/fair/2023/fair-seminar/nikos-nikiforakis/
DTSTAMP:20260423T101115Z
DTSTART:20231123T111500Z
DTEND:20231123T121500Z
SUMMARY:Nikos Nikiforakis
DESCRIPTION:We invite you to a seminar with Nikos Nikiforakis, Professor of Economics at the New York University Abu Dhabi. https://www.nhh.no/en/calendar/fair/2023/fair-seminar/nikos-nikiforakis/
X-ALT-DESC;FMTTYPE=text/html:We invite you to a seminar with Nikos Nikiforakis, Professor of Economics at the New York University Abu Dhabi.<br /> <br /> Microsoft.AspNetCore.Mvc.Rendering.TagBuilder
LOCATION:
URL:https://www.nhh.no/en/calendar/fair/2023/fair-seminar/nikos-nikiforakis/
END:VEVENT
END:VCALENDAR