BEGIN:VCALENDAR
VERSION:2.0
PRODID:-//NHH //NONSGML v1.0//NO
BEGIN:VEVENT
UID:https://www.nhh.no/en/calendar/fair/2023/fair-seminar/basit-zafar/
DTSTAMP:20260421T123335Z
DTSTART:20231109T111500Z
DTEND:20231109T121500Z
SUMMARY:Basit Zafar
DESCRIPTION:We invite you to a seminar with Basit Zafar, a Professor at the University of Michigan. https://www.nhh.no/en/calendar/fair/2023/fair-seminar/basit-zafar/
X-ALT-DESC;FMTTYPE=text/html:We invite you to a seminar with Basit Zafar, a Professor at the University of Michigan.<br /> <br /> Microsoft.AspNetCore.Mvc.Rendering.TagBuilder
LOCATION:
URL:https://www.nhh.no/en/calendar/fair/2023/fair-seminar/basit-zafar/
END:VEVENT
END:VCALENDAR