BEGIN:VCALENDAR
VERSION:2.0
PRODID:-//NHH //NONSGML v1.0//NO
BEGIN:VEVENT
UID:https://www.nhh.no/en/calendar/fair/2021/seminars/seminar-autumn-2021/esther-ann-boler/
DTSTAMP:20260422T132549Z
DTSTART:20210916T101500Z
DTEND:20210916T111500Z
SUMMARY:Strapped for Cash: The Role of Financial Constraints for Innovating Firms
DESCRIPTION:FAIR invites you to a seminar with Esther Ann Bøler, Assistant Professor at the Imperial College Business School. Her fields of interest are international trade, productivity and innovation, and labour economics. https://www.nhh.no/en/calendar/fair/2021/seminars/seminar-autumn-2021/esther-ann-boler/
X-ALT-DESC;FMTTYPE=text/html:FAIR invites you to a seminar with Esther Ann Bøler, Assistant Professor at the Imperial College Business School. Her fields of interest are international trade, productivity and innovation, and labour economics.<br /> <br /> Microsoft.AspNetCore.Mvc.Rendering.TagBuilder
LOCATION:
URL:https://www.nhh.no/en/calendar/fair/2021/seminars/seminar-autumn-2021/esther-ann-boler/
END:VEVENT
END:VCALENDAR