BEGIN:VCALENDAR
VERSION:2.0
PRODID:-//NHH //NONSGML v1.0//NO
BEGIN:VEVENT
UID:https://www.nhh.no/en/calendar/fair/2017/tcl-fall-2017/fair-seminar-christopher-roth/
DTSTAMP:20260422T082514Z
DTSTART:20171102T111500Z
DTEND:20171102T121500Z
SUMMARY:Beliefs about Racial Discrimination: Representative Evidence
DESCRIPTION:FAIR-The Choice Lab invites you to a seminar with Christopher Roth, PhD student at Oxford University. https://www.nhh.no/en/calendar/fair/2017/tcl-fall-2017/fair-seminar-christopher-roth/
X-ALT-DESC;FMTTYPE=text/html:FAIR-The Choice Lab invites you to a seminar with Christopher Roth, PhD student at Oxford University.<br /> <br /> Microsoft.AspNetCore.Mvc.Rendering.TagBuilder
LOCATION:
URL:https://www.nhh.no/en/calendar/fair/2017/tcl-fall-2017/fair-seminar-christopher-roth/
END:VEVENT
END:VCALENDAR