BEGIN:VCALENDAR
VERSION:2.0
PRODID:-//NHH //NONSGML v1.0//NO
BEGIN:VEVENT
UID:https://www.nhh.no/en/calendar/fair/2017/fall-2017/thomas-cornelissen/
DTSTAMP:20260422T092842Z
DTSTART:20171123T111500Z
DTEND:20171123T121500Z
SUMMARY:Thomas Cornelissen
DESCRIPTION:CELE invites you to a FAIR seminar with Thomas Cornelissen (University of York) on November 23. https://www.nhh.no/en/calendar/fair/2017/fall-2017/thomas-cornelissen/
X-ALT-DESC;FMTTYPE=text/html:CELE invites you to a FAIR seminar with Thomas Cornelissen (University of York) on November 23.<br /> <br /> Microsoft.AspNetCore.Mvc.Rendering.TagBuilder
LOCATION:
URL:https://www.nhh.no/en/calendar/fair/2017/fall-2017/thomas-cornelissen/
END:VEVENT
END:VCALENDAR