BEGIN:VCALENDAR
VERSION:2.0
PRODID:-//NHH //NONSGML v1.0//NO
BEGIN:VEVENT
UID:https://www.nhh.no/en/calendar/fair/2017/fall-2017/antonio-dalla-zuanna/
DTSTAMP:20260422T075652Z
DTSTART:20170817T101500Z
DTEND:20170817T111500Z
SUMMARY:The Effect of Increased School Choice on High Ability Students
DESCRIPTION:CELE invites you to a FAIR seminar with Antonio Dalla-Zuanna (NHH) on August 17.  https://www.nhh.no/en/calendar/fair/2017/fall-2017/antonio-dalla-zuanna/
X-ALT-DESC;FMTTYPE=text/html:CELE invites you to a FAIR seminar with Antonio Dalla-Zuanna (NHH) on August 17. <br /> <br /> Microsoft.AspNetCore.Mvc.Rendering.TagBuilder
LOCATION:E209/E210
URL:https://www.nhh.no/en/calendar/fair/2017/fall-2017/antonio-dalla-zuanna/
END:VEVENT
END:VCALENDAR