BEGIN:VCALENDAR
VERSION:2.0
PRODID:-//NHH //NONSGML v1.0//NO
BEGIN:VEVENT
UID:https://www.nhh.no/en/calendar/economics/h-2023/phd-defense-ingvild-skarpeid/
DTSTAMP:20260421T072036Z
DTSTART:20241111T091500Z
DTEND:20241111T130000Z
SUMMARY:Understanding Stress and Redistributive Choice
DESCRIPTION:On Monday 11 November 2024 Ingvild Skarpeid will hold a trial lecture on a prescribed topic and defend her thesis for the PhD degree at NHH. Title of the thesis: Understanding Stress and Redistributive Choice: Evidence from Three Economic Experiments
 https://www.nhh.no/en/calendar/economics/h-2023/phd-defense-ingvild-skarpeid/
X-ALT-DESC;FMTTYPE=text/html:On Monday 11 November 2024 Ingvild Skarpeid will hold a trial lecture on a prescribed topic and defend her thesis for the PhD degree at NHH. Title of the thesis: Understanding Stress and Redistributive Choice: Evidence from Three Economic Experiments
<br /> <br /> Microsoft.AspNetCore.Mvc.Rendering.TagBuilder
LOCATION:TBA
URL:https://www.nhh.no/en/calendar/economics/h-2023/phd-defense-ingvild-skarpeid/
END:VEVENT
END:VCALENDAR