BEGIN:VCALENDAR
VERSION:2.0
PRODID:-//NHH //NONSGML v1.0//NO
BEGIN:VEVENT
UID:https://www.nhh.no/en/calendar/business-and-management-science/taxloop-workshop-on-taxing-profits-and-dividends/
DTSTAMP:20260422T212252Z
DTSTART:20240415T070000Z
DTEND:20240416T150000Z
SUMMARY:TAXLOOP Workshop on Taxing Profits and Dividends
DESCRIPTION:Welcome to TAXLOOP Workshop 2024 at the Norwegian School of Economics! https://www.nhh.no/en/calendar/business-and-management-science/taxloop-workshop-on-taxing-profits-and-dividends/
X-ALT-DESC;FMTTYPE=text/html:Welcome to TAXLOOP Workshop 2024 at the Norwegian School of Economics!<br /> <br /> Microsoft.AspNetCore.Mvc.Rendering.TagBuilder
LOCATION:Kristian Gerhard Jebsen Centre
URL:https://www.nhh.no/en/calendar/business-and-management-science/taxloop-workshop-on-taxing-profits-and-dividends/
END:VEVENT
END:VCALENDAR