BEGIN:VCALENDAR
VERSION:2.0
PRODID:-//NHH //NONSGML v1.0//NO
BEGIN:VEVENT
UID:https://www.nhh.no/en/calendar/accounting-auditing-and-law/2025/accounting-for-futures/
DTSTAMP:20260425T164925Z
DTSTART:20250511T220000Z
DTEND:20250513T110000Z
SUMMARY:Accounting for Futures
DESCRIPTION:Accounting for futures occurs in a variety of empirical domains, including social impact investing, sustainability, climate change, or generally in forecasting and discounting. These fields all involve acting today based on ideas about the future. https://www.nhh.no/en/calendar/accounting-auditing-and-law/2025/accounting-for-futures/
X-ALT-DESC;FMTTYPE=text/html:Accounting for futures occurs in a variety of empirical domains, including social impact investing, sustainability, climate change, or generally in forecasting and discounting. These fields all involve acting today based on ideas about the future.<br /> <br /> Microsoft.AspNetCore.Mvc.Rendering.TagBuilder
LOCATION:AUD Q
URL:https://www.nhh.no/en/calendar/accounting-auditing-and-law/2025/accounting-for-futures/
END:VEVENT
END:VCALENDAR