BEGIN:VCALENDAR
VERSION:2.0
PRODID:-//NHH //NONSGML v1.0//NO
BEGIN:VEVENT
UID:https://www.nhh.no/en/calendar/accounting-auditing-and-law/2024/nancy-bocken/
DTSTAMP:20260421T083807Z
DTSTART:20240515T080000Z
DTEND:20240515T093000Z
SUMMARY:From imagining to implementing circular business models: Findings from Circular X
DESCRIPTION:The Department of Accounting, Auditing and Law invites you to a EEL lecture and fireside chat with Nancy Bocken, Professor of Sustainable Business and Europe`s leading circular economy scholar. https://www.nhh.no/en/calendar/accounting-auditing-and-law/2024/nancy-bocken/
X-ALT-DESC;FMTTYPE=text/html:The Department of Accounting, Auditing and Law invites you to a EEL lecture and fireside chat with Nancy Bocken, Professor of Sustainable Business and Europe`s leading circular economy scholar.<br /> <br /> Microsoft.AspNetCore.Mvc.Rendering.TagBuilder
LOCATION:Aud N
URL:https://www.nhh.no/en/calendar/accounting-auditing-and-law/2024/nancy-bocken/
END:VEVENT
END:VCALENDAR