BEGIN:VCALENDAR
VERSION:2.0
PRODID:-//NHH //NONSGML v1.0//NO
BEGIN:VEVENT
UID:https://www.nhh.no/en/calendar/accounting-auditing-and-law/2024/caroline-flammer/
DTSTAMP:20260421T084050Z
DTSTART:20240828T101500Z
DTEND:20240828T111500Z
SUMMARY:Caroline Flammer
DESCRIPTION:The Department of Accounting, Auditing and Law invites you to an Ethics, Economics and Law seminar with Caroline Flammer, Columbia University https://www.nhh.no/en/calendar/accounting-auditing-and-law/2024/caroline-flammer/
X-ALT-DESC;FMTTYPE=text/html:The Department of Accounting, Auditing and Law invites you to an Ethics, Economics and Law seminar with Caroline Flammer, Columbia University<br /> <br /> Microsoft.AspNetCore.Mvc.Rendering.TagBuilder
LOCATION:Aud N, NHH
URL:https://www.nhh.no/en/calendar/accounting-auditing-and-law/2024/caroline-flammer/
END:VEVENT
END:VCALENDAR