BEGIN:VCALENDAR
VERSION:2.0
PRODID:-//NHH //NONSGML v1.0//NO
BEGIN:VEVENT
UID:https://www.nhh.no/en/calendar/accounting-auditing-and-law/2024/ane-tamayo/
DTSTAMP:20260423T101059Z
DTSTART:20240321T093000Z
DTEND:20240321T104500Z
SUMMARY:Ane Tamayo
DESCRIPTION:The Department of Accounting, Auditing and Law invites you to a FAA seminar with Ane Tamayo, London School of Economics and Political Science. https://www.nhh.no/en/calendar/accounting-auditing-and-law/2024/ane-tamayo/
X-ALT-DESC;FMTTYPE=text/html:The Department of Accounting, Auditing and Law invites you to a FAA seminar with Ane Tamayo, London School of Economics and Political Science.<br /> <br /> Microsoft.AspNetCore.Mvc.Rendering.TagBuilder
LOCATION:Karl Borch
URL:https://www.nhh.no/en/calendar/accounting-auditing-and-law/2024/ane-tamayo/
END:VEVENT
END:VCALENDAR