BEGIN:VCALENDAR
VERSION:2.0
PRODID:-//NHH //NONSGML v1.0//NO
BEGIN:VEVENT
UID:https://www.nhh.no/en/calendar/accounting-auditing-and-law/2021/durham-rutgers-accounting-analytics-network/
DTSTAMP:20260423T172108Z
DTSTART:20210319T150000Z
DTEND:20210319T170000Z
SUMMARY:Webinar: 'The Digital Transformation of the Audit Process' 
DESCRIPTION:The Durham Rutgers Accounting Analytics Network (DRAAN) 'The Digital Transformation of the Audit Process' research webinar on Friday 19th March at 16:00 - 18:00 Norwegian time led by Professor Aasmund Eilifsen and Finn Kinserdal. https://www.nhh.no/en/calendar/accounting-auditing-and-law/2021/durham-rutgers-accounting-analytics-network/
X-ALT-DESC;FMTTYPE=text/html:The Durham Rutgers Accounting Analytics Network (DRAAN) 'The Digital Transformation of the Audit Process' research webinar on Friday 19th March at 16:00 - 18:00 Norwegian time led by Professor Aasmund Eilifsen and Finn Kinserdal.<br /> <br /> Microsoft.AspNetCore.Mvc.Rendering.TagBuilder
LOCATION:
URL:https://www.nhh.no/en/calendar/accounting-auditing-and-law/2021/durham-rutgers-accounting-analytics-network/
END:VEVENT
END:VCALENDAR