BEGIN:VCALENDAR
VERSION:2.0
PRODID:-//NHH //NONSGML v1.0//NO
BEGIN:VEVENT
UID:https://www.nhh.no/en/calendar/2026/juni/graduation/
DTSTAMP:20260421T135031Z
DTSTART:20260612T150000Z
DTEND:20260612T183000Z
SUMMARY:Graduation 2026
DESCRIPTION:NHH invites this year’s master graduates to a graduation ceremony. The event takes place in Grieghallen in Bergen city centre.  https://www.nhh.no/en/calendar/2026/juni/graduation/
X-ALT-DESC;FMTTYPE=text/html:NHH invites this year’s master graduates to a graduation ceremony. The event takes place in Grieghallen in Bergen city centre. <br /> <br /> Microsoft.AspNetCore.Mvc.Rendering.TagBuilder
LOCATION:Grieghallen, Bergen
URL:https://www.nhh.no/en/calendar/2026/juni/graduation/
END:VEVENT
END:VCALENDAR