BEGIN:VCALENDAR
VERSION:2.0
PRODID:-//NHH //NONSGML v1.0//NO
BEGIN:VEVENT
UID:https://www.nhh.no/en/calendar/2025/may/governing-board-meeting-and-international-advisory-board-meeting/
DTSTAMP:20260422T182648Z
DTSTART:20250525T140000Z
DTEND:20250527T113000Z
SUMMARY:Governing Board meeting and International Advisory Board meeting
DESCRIPTION:A two-day meeting for the ENGAGE.EU Governing Board and International Advisory Board will be held at the NHH Norwegian School of Economics from Monday 25 May to Wednesday 27 May 2025. This gathering will bring together the alliance's rectors, presidents, and International Advisory Board members. https://www.nhh.no/en/calendar/2025/may/governing-board-meeting-and-international-advisory-board-meeting/
X-ALT-DESC;FMTTYPE=text/html:A two-day meeting for the ENGAGE.EU Governing Board and International Advisory Board will be held at the NHH Norwegian School of Economics from Monday 25 May to Wednesday 27 May 2025. This gathering will bring together the alliance's rectors, presidents, and International Advisory Board members.<br /> <br /> Microsoft.AspNetCore.Mvc.Rendering.TagBuilder
LOCATION:
URL:https://www.nhh.no/en/calendar/2025/may/governing-board-meeting-and-international-advisory-board-meeting/
END:VEVENT
END:VCALENDAR