BEGIN:VCALENDAR
VERSION:2.0
PRODID:-//NHH //NONSGML v1.0//NO
BEGIN:VEVENT
UID:https://www.nhh.no/en/calendar/2025/april/navigating-the-green-transitio/
DTSTAMP:20260421T200040Z
DTSTART:20250408T113000Z
DTEND:20250408T140000Z
SUMMARY:Navigating the Green Transition
DESCRIPTION:Join a dynamic discussion on how governance and communication can drive engagement, reduce resistance, and ensure a fair green transition. https://www.nhh.no/en/calendar/2025/april/navigating-the-green-transitio/
X-ALT-DESC;FMTTYPE=text/html:Join a dynamic discussion on how governance and communication can drive engagement, reduce resistance, and ensure a fair green transition.<br /> <br /> Microsoft.AspNetCore.Mvc.Rendering.TagBuilder
LOCATION:Kulturhuset
URL:https://www.nhh.no/en/calendar/2025/april/navigating-the-green-transitio/
END:VEVENT
END:VCALENDAR