BEGIN:VCALENDAR
VERSION:2.0
PRODID:-//NHH //NONSGML v1.0//NO
BEGIN:VEVENT
UID:https://www.nhh.no/en/calendar/2024/november/engage-eu-leadership-in-academia/
DTSTAMP:20260423T172735Z
DTSTART:20241121T080000Z
DTEND:20241121T110000Z
SUMMARY:Leadership in Academia
DESCRIPTION:Are you a postdoc, junior faculty member or advanced PhD researcher at an Engage.EU partner university, and prepared to sharpen your leadership skills for academia? Join this half-day online workshop which covers key skills of academic leadership. https://www.nhh.no/en/calendar/2024/november/engage-eu-leadership-in-academia/
X-ALT-DESC;FMTTYPE=text/html:Are you a postdoc, junior faculty member or advanced PhD researcher at an Engage.EU partner university, and prepared to sharpen your leadership skills for academia? Join this half-day online workshop which covers key skills of academic leadership.<br /> <br /> Microsoft.AspNetCore.Mvc.Rendering.TagBuilder
LOCATION:Online
URL:https://www.nhh.no/en/calendar/2024/november/engage-eu-leadership-in-academia/
END:VEVENT
END:VCALENDAR